BEGIN:VCALENDAR
VERSION:2.0
PRODID:-//Culture Plus - ECPv6.15.20//NONSGML v1.0//EN
CALSCALE:GREGORIAN
METHOD:PUBLISH
X-ORIGINAL-URL:https://cultureplus.asia
X-WR-CALDESC:Events for Culture Plus
REFRESH-INTERVAL;VALUE=DURATION:PT1H
X-Robots-Tag:noindex
X-PUBLISHED-TTL:PT1H
BEGIN:VTIMEZONE
TZID:Asia/Hong_Kong
BEGIN:STANDARD
TZOFFSETFROM:+0800
TZOFFSETTO:+0800
TZNAME:HKT
DTSTART:20210101T000000
END:STANDARD
END:VTIMEZONE
BEGIN:VEVENT
DTSTART;VALUE=DATE:20220525
DTEND;VALUE=DATE:20270528
DTSTAMP:20260424T075237
CREATED:20220610T024141Z
LAST-MODIFIED:20220616T003322Z
UID:10018438-1653436800-1811462399@cultureplus.asia
SUMMARY:Luis Chan Studio
DESCRIPTION:Nicknamed as “Fuk Bak”\, Hong Kong artist Luis Chan lived in a home studio located at Lockhart Road in Wan Chai – a place which doubled as his living place and room for creation. His paintings were mostly based on daily life. Wan Chai\, therefore\, became the inspiration for many of his works\, including the streetscape\, waterfront\, and shops nearby. Whether realistic landscape paintings or colourful abstract paintings\, his works are traces of the past and rich in local historical stories. \nLuis Chan Studio is an interpretive recreation of a space in which Luis Chan lived and worked. This room features his personal belongings\, such as furniture\, manuscripts\, and books relocated from his apartment\, to recreate the original living environment and moment when he was creating. We hope that visitors can encounter his creative space of the old days in first-person perspective through the glass window and gain an in-depth understanding of the pluralistic nature of this pioneering artist\, thereby enhancing appreciation for his artworks. \nShowcasing precious historical photos and written records\, Luis Chan Studio also guides the public through Luis Chan’s artistic journey and development of styles. From the legendary life of the “King of Watercolour”\, we hope the audience could explore Hong Kong art history in the contemporary context.
URL:https://cultureplus.asia/event/luis-chan-studio/
LOCATION:Hong Kong Arts Centre\, 2 Harbour Road\, Wan Chai\, Hong Kong
CATEGORIES:Painting
ATTACH;FMTTYPE=image/jpeg:https://cultureplus.asia/wp-content/uploads/2022/06/Luis-Chan-Studio-e1654828806397.jpg
END:VEVENT
END:VCALENDAR